BEGIN:VCALENDAR
VERSION:2.0
PRODID:-//Activities Guide of Maine - ECPv6.15.20//NONSGML v1.0//EN
CALSCALE:GREGORIAN
METHOD:PUBLISH
X-ORIGINAL-URL:https://activitymaine.com
X-WR-CALDESC:Events for Activities Guide of Maine
REFRESH-INTERVAL;VALUE=DURATION:PT1H
X-Robots-Tag:noindex
X-PUBLISHED-TTL:PT1H
BEGIN:VTIMEZONE
TZID:America/New_York
BEGIN:DAYLIGHT
TZOFFSETFROM:-0500
TZOFFSETTO:-0400
TZNAME:EDT
DTSTART:20250309T070000
END:DAYLIGHT
BEGIN:STANDARD
TZOFFSETFROM:-0400
TZOFFSETTO:-0500
TZNAME:EST
DTSTART:20251102T060000
END:STANDARD
BEGIN:DAYLIGHT
TZOFFSETFROM:-0500
TZOFFSETTO:-0400
TZNAME:EDT
DTSTART:20260308T070000
END:DAYLIGHT
BEGIN:STANDARD
TZOFFSETFROM:-0400
TZOFFSETTO:-0500
TZNAME:EST
DTSTART:20261101T060000
END:STANDARD
BEGIN:DAYLIGHT
TZOFFSETFROM:-0500
TZOFFSETTO:-0400
TZNAME:EDT
DTSTART:20270314T070000
END:DAYLIGHT
BEGIN:STANDARD
TZOFFSETFROM:-0400
TZOFFSETTO:-0500
TZNAME:EST
DTSTART:20271107T060000
END:STANDARD
END:VTIMEZONE
BEGIN:VEVENT
DTSTART;TZID=America/New_York:20260429T190000
DTEND;TZID=America/New_York:20260429T203000
DTSTAMP:20260425T072338
CREATED:20260311T163229Z
LAST-MODIFIED:20260311T163229Z
UID:25890-1777489200-1777494600@activitymaine.com
SUMMARY:Maine POPS Concert Band Spring 2026 Concert
DESCRIPTION:Join the Maine POPS Concert Band\, the largest concert band in Southern Maine\, for our annual spring concert. Featured selections include Give Us This Day\, a wind symphony composed by David Maslanka\, popular hits from classic Disney tunes\, and exploring the themes of James Bond over the years. \nThere is a suggested donation of $15\, with students being free.
URL:https://activitymaine.com/calendar-event/maine-pops-concert-band-spring-2026-concert/
LOCATION:Westbrook Performing Arts Center\, 471 Stroudwater St.\, Westbrook\, ME\, 04092\, United States
CATEGORIES:COMMUNITY EVENTS
ATTACH;FMTTYPE=image/png:https://activitymaine.com/wp-content/uploads/2026/03/Maine-POPS-Concert.png
ORGANIZER;CN="Maine POPS Concert Band":MAILTO:ascherg100@gmail.com
END:VEVENT
END:VCALENDAR