BEGIN:VCALENDAR
VERSION:2.0
PRODID:-//Activities Guide of Maine - ECPv6.15.20//NONSGML v1.0//EN
CALSCALE:GREGORIAN
METHOD:PUBLISH
X-ORIGINAL-URL:https://activitymaine.com
X-WR-CALDESC:Events for Activities Guide of Maine
REFRESH-INTERVAL;VALUE=DURATION:PT1H
X-Robots-Tag:noindex
X-PUBLISHED-TTL:PT1H
BEGIN:VTIMEZONE
TZID:America/New_York
BEGIN:DAYLIGHT
TZOFFSETFROM:-0500
TZOFFSETTO:-0400
TZNAME:EDT
DTSTART:20240310T070000
END:DAYLIGHT
BEGIN:STANDARD
TZOFFSETFROM:-0400
TZOFFSETTO:-0500
TZNAME:EST
DTSTART:20241103T060000
END:STANDARD
BEGIN:DAYLIGHT
TZOFFSETFROM:-0500
TZOFFSETTO:-0400
TZNAME:EDT
DTSTART:20250309T070000
END:DAYLIGHT
BEGIN:STANDARD
TZOFFSETFROM:-0400
TZOFFSETTO:-0500
TZNAME:EST
DTSTART:20251102T060000
END:STANDARD
BEGIN:DAYLIGHT
TZOFFSETFROM:-0500
TZOFFSETTO:-0400
TZNAME:EDT
DTSTART:20260308T070000
END:DAYLIGHT
BEGIN:STANDARD
TZOFFSETFROM:-0400
TZOFFSETTO:-0500
TZNAME:EST
DTSTART:20261101T060000
END:STANDARD
END:VTIMEZONE
BEGIN:VEVENT
DTSTART;TZID=America/New_York:20250611T210000
DTEND;TZID=America/New_York:20250611T220000
DTSTAMP:20260425T210504
CREATED:20250302T193209Z
LAST-MODIFIED:20250605T135052Z
UID:23647-1749675600-1749679200@activitymaine.com
SUMMARY:Free Community Sound Baths Infused with Reiki
DESCRIPTION:Welcome to our Free Monthly Community Sound Baths & Reiki Sessions! Join us online for a rejuvenating experience that combines the healing power of sound therapy and Reiki energy. Cali Rossen\, founder of Sacred Frequencies will guide you through a relaxing session to help you unwind\, de-stress\, and realign your energy. Whether you’re a beginner or experienced in these practices\, everyone is welcome to participate. Don’t miss out on this wonderful opportunity to nurture your mind\, body\, and spirit. Mark your calendars for our upcoming session!
URL:https://activitymaine.com/calendar-event/free-community-sound-baths-infused-with-reiki-3/
LOCATION:Virtual Online Event\, United States
CATEGORIES:WELLNESS
ATTACH;FMTTYPE=image/jpeg:https://activitymaine.com/wp-content/uploads/2025/03/Free-community-sound-baths.jpg
ORGANIZER;CN="Cali Rossen - Founder of SacredFrequencies.org":MAILTO:cali@sacredfrequencies.org
END:VEVENT
END:VCALENDAR