BEGIN:VCALENDAR
VERSION:2.0
PRODID:-//Activities Guide of Maine - ECPv6.15.20//NONSGML v1.0//EN
CALSCALE:GREGORIAN
METHOD:PUBLISH
X-WR-CALNAME:Activities Guide of Maine
X-ORIGINAL-URL:https://activitymaine.com
X-WR-CALDESC:Events for Activities Guide of Maine
REFRESH-INTERVAL;VALUE=DURATION:PT1H
X-Robots-Tag:noindex
X-PUBLISHED-TTL:PT1H
BEGIN:VTIMEZONE
TZID:America/New_York
BEGIN:DAYLIGHT
TZOFFSETFROM:-0500
TZOFFSETTO:-0400
TZNAME:EDT
DTSTART:20220313T070000
END:DAYLIGHT
BEGIN:STANDARD
TZOFFSETFROM:-0400
TZOFFSETTO:-0500
TZNAME:EST
DTSTART:20221106T060000
END:STANDARD
BEGIN:DAYLIGHT
TZOFFSETFROM:-0500
TZOFFSETTO:-0400
TZNAME:EDT
DTSTART:20230312T070000
END:DAYLIGHT
BEGIN:STANDARD
TZOFFSETFROM:-0400
TZOFFSETTO:-0500
TZNAME:EST
DTSTART:20231105T060000
END:STANDARD
BEGIN:DAYLIGHT
TZOFFSETFROM:-0500
TZOFFSETTO:-0400
TZNAME:EDT
DTSTART:20240310T070000
END:DAYLIGHT
BEGIN:STANDARD
TZOFFSETFROM:-0400
TZOFFSETTO:-0500
TZNAME:EST
DTSTART:20241103T060000
END:STANDARD
END:VTIMEZONE
BEGIN:VEVENT
DTSTART;VALUE=DATE:20231209
DTEND;VALUE=DATE:20231211
DTSTAMP:20260425T221015
CREATED:20231124T224937Z
LAST-MODIFIED:20231124T232812Z
UID:21632-1702080000-1702252799@activitymaine.com
SUMMARY:Caravan Artist Market 'Holidaze Sale!'
DESCRIPTION:It’s CARAVAN’S annual 2 day HOLIDAZE SALE at NOMAD – located in the beautiful Fort Andross Mill on the Androscoggin in Brunswick Maine! \nHours:\n12:00 pm to 6:00 pm on Saturday 12/9\n11:00 am to 4:00 pm on Sunday 12/10 \nWe have an incredible line up of talent for you to find the most unique gifts for everyone on your list!\nOriginal art works\, prints\, calendars\, jewelry at every price range\, toys\, clothing\, woodworking\, pottery\, illustration\, stickers\, cards\, dried florals\, wreaths\, ceramics\, leather\, skin care\, candles\, confections to hot sauce!\nEnjoy views of the river & a libation from Nomad’s bar &/or delicious lunch or dinner offerings\, maybe a coffee & bagels from the Dutchman’s.\nLots of other gift giving potential to be found at Fort Andos: the Brunswick Flea Market\, Brunswick Farmers Market\, &/or at Cabot Mills Antiques! It’s the perfect weekend & spot for one stop\, one & done shopping extravaganza!\nSO Merry! SO Bright! So Delicious! SO FEEL GOOD!\n\nFree entrance\, & family friendly event!
URL:https://activitymaine.com/calendar-event/caravan-artist-market-holidaze-sale/
LOCATION:Fort Andross\, 14 Maine St\, Mill 3 Fort Andross\, Brunswick\, ME\, 04011
CATEGORIES:COMMUNITY EVENTS
ATTACH;FMTTYPE=image/png:https://activitymaine.com/wp-content/uploads/2023/11/Nomad_Holiadaze23_Social.png
ORGANIZER;CN="Caravan Artist Market":MAILTO:caravanartistmarket@gmail.com
END:VEVENT
END:VCALENDAR